BEGIN:VCALENDAR
VERSION:2.0
PRODID:-//wp-events-plugin.com//7.2.3.1//EN
TZID:America/New_York
X-WR-TIMEZONE:America/New_York
BEGIN:VEVENT
UID:1901@kolhaverim.org
DTSTART;TZID=America/New_York:20260201T090000
DTEND;TZID=America/New_York:20260201T110000
DTSTAMP:20251222T011809Z
URL:https://www.kolhaverim.org/events/tu-bishvat-family-program-2/
SUMMARY:Tu Bishvat Family Program
DESCRIPTION:Location: Robert Cohen Social Hall
ATTACH;FMTTYPE=image/jpeg:https://www.kolhaverim.org/wp-content/uploads/20
 25/03/Tu-Bishvat-Celebration-Feature.png
CATEGORIES:Featured
END:VEVENT
BEGIN:VTIMEZONE
TZID:America/New_York
X-LIC-LOCATION:America/New_York
BEGIN:STANDARD
DTSTART:20251102T010000
TZOFFSETFROM:-0400
TZOFFSETTO:-0500
TZNAME:EST
END:STANDARD
END:VTIMEZONE
END:VCALENDAR