BEGIN:VCALENDAR
VERSION:2.0
PRODID:-//wp-events-plugin.com//7.2.3.1//EN
TZID:America/New_York
X-WR-TIMEZONE:America/New_York
BEGIN:VEVENT
UID:2288@kolhaverim.org
DTSTART;TZID=America/New_York;VALUE=DATE:20261126
DTEND;TZID=America/New_York;VALUE=DATE:20261127
DTSTAMP:20260410T172246Z
URL:https://www.kolhaverim.org/events/thanksgiving-day-3/
SUMMARY:Thanksgiving Day
DESCRIPTION:
CATEGORIES:Holidays
END:VEVENT
BEGIN:VTIMEZONE
TZID:America/New_York
X-LIC-LOCATION:America/New_York
BEGIN:STANDARD
DTSTART:20261101T010000
TZOFFSETFROM:-0400
TZOFFSETTO:-0500
TZNAME:EST
END:STANDARD
END:VTIMEZONE
END:VCALENDAR