BEGIN:VCALENDAR
VERSION:2.0
PRODID:-//wp-events-plugin.com//7.2.3.1//EN
TZID:America/New_York
X-WR-TIMEZONE:America/New_York
BEGIN:VEVENT
UID:2073@kolhaverim.org
DTSTART;TZID=America/New_York:20251207T090000
DTEND;TZID=America/New_York:20251207T110000
DTSTAMP:20251118T161612Z
URL:https://www.kolhaverim.org/events/temple-tots-45/
SUMMARY:Temple Tots
DESCRIPTION:The theme for this session will be " Early Chanukah Celebratio
 n" and the activity will be making a fun Latke cover.  Please register 
 no later than the Friday before the class so June can prepare material. P
 arents\, please bring a water bottle for your child\, a snack will be prov
 ided.\nTo Register:   CLICK HERE.\nFull Temple Tots Schedule:   http
 s://images.shulcloud.com/580/uploads/religious_school/2025-2026/TempleTots
 2025-2026.pdf.
ATTACH;FMTTYPE=image/jpeg:https://www.kolhaverim.org/wp-content/uploads/20
 23/03/Temple-Tots.png
CATEGORIES:Featured
END:VEVENT
BEGIN:VTIMEZONE
TZID:America/New_York
X-LIC-LOCATION:America/New_York
BEGIN:STANDARD
DTSTART:20251102T010000
TZOFFSETFROM:-0400
TZOFFSETTO:-0500
TZNAME:EST
END:STANDARD
END:VTIMEZONE
END:VCALENDAR