BEGIN:VCALENDAR
VERSION:2.0
PRODID:-//wp-events-plugin.com//7.2.3.1//EN
TZID:America/New_York
X-WR-TIMEZONE:America/New_York
BEGIN:VEVENT
UID:2072@kolhaverim.org
DTSTART;TZID=America/New_York:20251026T090000
DTEND;TZID=America/New_York:20251026T110000
DTSTAMP:20251016T141918Z
URL:https://www.kolhaverim.org/events/temple-tots-44/
SUMMARY:Temple Tots
DESCRIPTION:Register for Temple Tots HERE.\nView the 2025-2026 Temple Tots 
 schedule HERE.
ATTACH;FMTTYPE=image/jpeg:https://www.kolhaverim.org/wp-content/uploads/20
 23/03/Temple-Tots.png
CATEGORIES:Featured
END:VEVENT
BEGIN:VTIMEZONE
TZID:America/New_York
X-LIC-LOCATION:America/New_York
BEGIN:DAYLIGHT
DTSTART:20250309T030000
TZOFFSETFROM:-0500
TZOFFSETTO:-0400
TZNAME:EDT
END:DAYLIGHT
END:VTIMEZONE
END:VCALENDAR