BEGIN:VCALENDAR
VERSION:2.0
PRODID:-//wp-events-plugin.com//7.2.3.1//EN
TZID:America/New_York
X-WR-TIMEZONE:America/New_York
BEGIN:VEVENT
UID:2049@kolhaverim.org
DTSTART;TZID=America/New_York:20260125T090000
DTEND;TZID=America/New_York:20260125T110000
DTSTAMP:20260112T133355Z
URL:https://www.kolhaverim.org/events/temple-tots-34/
SUMMARY:Temple Tots
DESCRIPTION:Please register no later than the Friday before the class so Ju
 ne can prepare material. Parents\, please bring a water bottle for your c
 hild\, a snack will be provided.\n\nTo Register:   CLICK HERE.\n\nFull 
 Temple Tots Schedule:   https://images.shulcloud.com/580/uploads/religi
 ous_school/2025-2026/TempleTots2025-2026.pdf.
ATTACH;FMTTYPE=image/jpeg:https://www.kolhaverim.org/wp-content/uploads/20
 23/03/Temple-Tots.png
CATEGORIES:Featured
END:VEVENT
BEGIN:VTIMEZONE
TZID:America/New_York
X-LIC-LOCATION:America/New_York
BEGIN:STANDARD
DTSTART:20251102T010000
TZOFFSETFROM:-0400
TZOFFSETTO:-0500
TZNAME:EST
END:STANDARD
END:VTIMEZONE
END:VCALENDAR