BEGIN:VCALENDAR
VERSION:2.0
PRODID:-//wp-events-plugin.com//7.2.3.1//EN
TZID:America/New_York
X-WR-TIMEZONE:America/New_York
BEGIN:VEVENT
UID:2047@kolhaverim.org
DTSTART;TZID=America/New_York:20260104T090000
DTEND;TZID=America/New_York:20260104T110000
DTSTAMP:20251222T010507Z
URL:https://www.kolhaverim.org/events/temple-tots-32/
SUMMARY:Temple Tots
DESCRIPTION:
ATTACH;FMTTYPE=image/jpeg:https://www.kolhaverim.org/wp-content/uploads/20
 23/03/Temple-Tots.png
CATEGORIES:Featured
END:VEVENT
BEGIN:VTIMEZONE
TZID:America/New_York
X-LIC-LOCATION:America/New_York
BEGIN:STANDARD
DTSTART:20251102T010000
TZOFFSETFROM:-0400
TZOFFSETTO:-0500
TZNAME:EST
END:STANDARD
END:VTIMEZONE
END:VCALENDAR