BEGIN:VCALENDAR
VERSION:2.0
PRODID:-//wp-events-plugin.com//7.2.3.1//EN
TZID:America/New_York
X-WR-TIMEZONE:America/New_York
BEGIN:VEVENT
UID:2280@kolhaverim.org
DTSTART;TZID=America/New_York;VALUE=DATE:20260913
DTEND;TZID=America/New_York;VALUE=DATE:20260914
DTSTAMP:20260317T153104Z
URL:https://www.kolhaverim.org/events/rosh-hashanah-2nd-day/
SUMMARY:Rosh Hashanah - 2nd Day
DESCRIPTION:
CATEGORIES:Holidays
END:VEVENT
BEGIN:VTIMEZONE
TZID:America/New_York
X-LIC-LOCATION:America/New_York
BEGIN:DAYLIGHT
DTSTART:20260308T030000
TZOFFSETFROM:-0500
TZOFFSETTO:-0400
TZNAME:EDT
END:DAYLIGHT
END:VTIMEZONE
END:VCALENDAR