BEGIN:VCALENDAR
VERSION:2.0
PRODID:-//wp-events-plugin.com//7.2.3.1//EN
TZID:America/New_York
X-WR-TIMEZONE:America/New_York
BEGIN:VEVENT
UID:1913@kolhaverim.org
DTSTART;TZID=America/New_York:20260304T180000
DTEND;TZID=America/New_York:20260304T200000
DTSTAMP:20251209T183318Z
URL:https://www.kolhaverim.org/events/purim-service-and-megillah-reading-2
 /
SUMMARY:Purim Service and Megillah Reading
DESCRIPTION:5:30 PM - Pizza Dinner\n\n6:00 PM - Service &amp\; Megillah Rea
 ding\n\n6:30 PM - Shpiel!
CATEGORIES:Holidays
END:VEVENT
BEGIN:VTIMEZONE
TZID:America/New_York
X-LIC-LOCATION:America/New_York
BEGIN:STANDARD
DTSTART:20251102T010000
TZOFFSETFROM:-0400
TZOFFSETTO:-0500
TZNAME:EST
END:STANDARD
END:VTIMEZONE
END:VCALENDAR