BEGIN:VCALENDAR
VERSION:2.0
PRODID:-//wp-events-plugin.com//7.2.3.1//EN
TZID:America/New_York
X-WR-TIMEZONE:America/New_York
BEGIN:VEVENT
UID:2148@kolhaverim.org
DTSTART;TZID=America/New_York:20260222T110000
DTEND;TZID=America/New_York:20260222T130000
DTSTAMP:20250829T163437Z
URL:https://www.kolhaverim.org/events/professional-development/
SUMMARY:Teacher Professional Development
DESCRIPTION:Time:  11 am - 1 pm\n\nLocation: Social Hall
CATEGORIES:Religious School
END:VEVENT
BEGIN:VTIMEZONE
TZID:America/New_York
X-LIC-LOCATION:America/New_York
BEGIN:STANDARD
DTSTART:20251102T010000
TZOFFSETFROM:-0400
TZOFFSETTO:-0500
TZNAME:EST
END:STANDARD
END:VTIMEZONE
END:VCALENDAR