BEGIN:VCALENDAR
VERSION:2.0
PRODID:-//wp-events-plugin.com//7.2.3.1//EN
TZID:America/New_York
X-WR-TIMEZONE:America/New_York
BEGIN:VEVENT
UID:1021@kolhaverim.org
DTSTART;TZID=America/New_York;VALUE=DATE:20231119
DTEND;TZID=America/New_York;VALUE=DATE:20231120
DTSTAMP:20231017T142751Z
URL:https://www.kolhaverim.org/events/no-school-11/
SUMMARY:NO SCHOOL
DESCRIPTION:
CATEGORIES:Religious School
END:VEVENT
BEGIN:VTIMEZONE
TZID:America/New_York
X-LIC-LOCATION:America/New_York
BEGIN:STANDARD
DTSTART:20231105T010000
TZOFFSETFROM:-0400
TZOFFSETTO:-0500
TZNAME:EST
END:STANDARD
END:VTIMEZONE
END:VCALENDAR