BEGIN:VCALENDAR
VERSION:2.0
PRODID:-//wp-events-plugin.com//7.2.3.1//EN
TZID:America/New_York
X-WR-TIMEZONE:America/New_York
BEGIN:VEVENT
UID:2244@kolhaverim.org
DTSTART;TZID=America/New_York:20251222T183000
DTEND;TZID=America/New_York:20251222T200000
DTSTAMP:20251207T151013Z
URL:https://www.kolhaverim.org/events/music-rehearsal-4/
SUMMARY:Music Rehearsal
DESCRIPTION:Location: Sanctuary
END:VEVENT
BEGIN:VTIMEZONE
TZID:America/New_York
X-LIC-LOCATION:America/New_York
BEGIN:STANDARD
DTSTART:20251102T010000
TZOFFSETFROM:-0400
TZOFFSETTO:-0500
TZNAME:EST
END:STANDARD
END:VTIMEZONE
END:VCALENDAR