BEGIN:VCALENDAR
VERSION:2.0
PRODID:-//wp-events-plugin.com//7.2.3.1//EN
TZID:America/New_York
X-WR-TIMEZONE:America/New_York
BEGIN:VEVENT
UID:2333@kolhaverim.org
DTSTART;TZID=America/New_York;VALUE=DATE:20270531
DTEND;TZID=America/New_York;VALUE=DATE:20270601
DTSTAMP:20260410T192430Z
URL:https://www.kolhaverim.org/events/memorial-day-3/
SUMMARY:Memorial Day
DESCRIPTION:
CATEGORIES:Holidays
END:VEVENT
BEGIN:VTIMEZONE
TZID:America/New_York
X-LIC-LOCATION:America/New_York
BEGIN:DAYLIGHT
DTSTART:20270314T030000
TZOFFSETFROM:-0500
TZOFFSETTO:-0400
TZNAME:EDT
END:DAYLIGHT
END:VTIMEZONE
END:VCALENDAR