BEGIN:VCALENDAR
VERSION:2.0
PRODID:-//wp-events-plugin.com//7.2.3.1//EN
TZID:America/New_York
X-WR-TIMEZONE:America/New_York
BEGIN:VEVENT
UID:2274@kolhaverim.org
DTSTART;TZID=America/New_York:20261018T111500
DTEND;TZID=America/New_York:20261018T123000
DTSTAMP:20260317T152428Z
URL:https://www.kolhaverim.org/events/lifelong-learning-5/
SUMMARY:Lifelong Learning
DESCRIPTION:Location\; Robert Cohen Social\n\nTopic: Hillel College Program
CATEGORIES:Lifelong Learning
END:VEVENT
BEGIN:VTIMEZONE
TZID:America/New_York
X-LIC-LOCATION:America/New_York
BEGIN:DAYLIGHT
DTSTART:20260308T030000
TZOFFSETFROM:-0500
TZOFFSETTO:-0400
TZNAME:EDT
END:DAYLIGHT
END:VTIMEZONE
END:VCALENDAR