BEGIN:VCALENDAR
VERSION:2.0
PRODID:-//wp-events-plugin.com//7.2.3.1//EN
TZID:America/New_York
X-WR-TIMEZONE:America/New_York
BEGIN:VEVENT
UID:2265@kolhaverim.org
DTSTART;TZID=America/New_York:20260418T100000
DTEND;TZID=America/New_York:20260418T120000
DTSTAMP:20260407T145623Z
URL:https://www.kolhaverim.org/events/lifelong-learning-4/
SUMMARY:Life long Learning
DESCRIPTION:SATURDAY\, APRIL 18th.  10:15 AM.  Lifelong Learning presen
 ts Rabbi Craig Marantz for a Shabbat morning discussion. "Seeking Wholenes
 s: Jewish Ideas About Flourishing”\n\nLocation: Robert Cohen Social Hall
ATTACH;FMTTYPE=image/jpeg:https://www.kolhaverim.org/wp-content/uploads/20
 24/09/LL-Feature.png
CATEGORIES:Featured
END:VEVENT
BEGIN:VTIMEZONE
TZID:America/New_York
X-LIC-LOCATION:America/New_York
BEGIN:DAYLIGHT
DTSTART:20260308T030000
TZOFFSETFROM:-0500
TZOFFSETTO:-0400
TZNAME:EDT
END:DAYLIGHT
END:VTIMEZONE
END:VCALENDAR