BEGIN:VCALENDAR
VERSION:2.0
PRODID:-//wp-events-plugin.com//7.2.3.1//EN
TZID:America/New_York
X-WR-TIMEZONE:America/New_York
BEGIN:VEVENT
UID:2388@kolhaverim.org
DTSTART;TZID=America/New_York:20270402T173000
DTEND;TZID=America/New_York:20270402T200000
DTSTAMP:20260413T150817Z
URL:https://www.kolhaverim.org/events/ldor-vdor-service-7/
SUMMARY:L'Dor V'Dor Service
DESCRIPTION:Teacher/Madrichim Appreciation\n\nService begins at 5:30 pm
CATEGORIES:Worship
END:VEVENT
BEGIN:VTIMEZONE
TZID:America/New_York
X-LIC-LOCATION:America/New_York
BEGIN:DAYLIGHT
DTSTART:20270314T030000
TZOFFSETFROM:-0500
TZOFFSETTO:-0400
TZNAME:EDT
END:DAYLIGHT
END:VTIMEZONE
END:VCALENDAR