BEGIN:VCALENDAR
VERSION:2.0
PRODID:-//wp-events-plugin.com//7.2.3.1//EN
TZID:America/New_York
X-WR-TIMEZONE:America/New_York
BEGIN:VEVENT
UID:2145@kolhaverim.org
DTSTART;TZID=America/New_York:20251120T093000
DTEND;TZID=America/New_York:20251120T110000
DTSTAMP:20251118T152815Z
URL:https://www.kolhaverim.org/events/kulanu-meeting/
SUMMARY:ADL Presentation / Kulanu Meeting
DESCRIPTION:Join Kulanu on Thursday November 20th at 9:30am in the Social H
 all for a special presentation from the ADL on "Effective Communication St
 rategies for Combating Antisemitism".\nPlease register to attend: https://
 forms.office.com/pages/responsepage.aspx?id=Z6J4okHDlk64RIEsVotlwOlKQf4l3v
 dHs5waU2WROtVURjE2Q1lLQTU5U1I1MEo1TUlXRTRYU1paSC4u&amp\;route=shorturl\nLo
 cation: Sanctuary
ATTACH;FMTTYPE=image/jpeg:https://www.kolhaverim.org/wp-content/uploads/20
 23/03/General-Feature-Image.jpg
CATEGORIES:Featured
END:VEVENT
BEGIN:VTIMEZONE
TZID:America/New_York
X-LIC-LOCATION:America/New_York
BEGIN:STANDARD
DTSTART:20251102T010000
TZOFFSETFROM:-0400
TZOFFSETTO:-0500
TZNAME:EST
END:STANDARD
END:VTIMEZONE
END:VCALENDAR