BEGIN:VCALENDAR
VERSION:2.0
PRODID:-//wp-events-plugin.com//7.2.3.1//EN
TZID:America/New_York
X-WR-TIMEZONE:America/New_York
BEGIN:VEVENT
UID:2146@kolhaverim.org
DTSTART;TZID=America/New_York;VALUE=DATE:20260426
DTEND;TZID=America/New_York;VALUE=DATE:20260427
DTSTAMP:20250820T141357Z
URL:https://www.kolhaverim.org/events/keeper-of-the-flame-awards/
SUMMARY:Keeper of the Flame Awards
DESCRIPTION:Location: Beth El Temple. West Hartford\n\nTime: TBA
CATEGORIES:Brotherhood
END:VEVENT
BEGIN:VTIMEZONE
TZID:America/New_York
X-LIC-LOCATION:America/New_York
BEGIN:DAYLIGHT
DTSTART:20260308T030000
TZOFFSETFROM:-0500
TZOFFSETTO:-0400
TZNAME:EDT
END:DAYLIGHT
END:VTIMEZONE
END:VCALENDAR