BEGIN:VCALENDAR
VERSION:2.0
PRODID:-//wp-events-plugin.com//7.2.3.1//EN
TZID:America/New_York
X-WR-TIMEZONE:America/New_York
BEGIN:VEVENT
UID:2312@kolhaverim.org
DTSTART;TZID=America/New_York:20261212T170000
DTEND;TZID=America/New_York:20261212T210000
DTSTAMP:20260408T135024Z
URL:https://www.kolhaverim.org/events/ha-ha-chanukah-comedy-club-featuring
 -linda-belt/
SUMMARY:Ha Ha Chanukah Comedy Club: Featuring Linda Belt!
DESCRIPTION:Location: Robert Cohen Social Hall\nDecember 12th: 'Ha Ha Chan
 ukah featuring Linda Belt'\nCKH Comedy Club\nTickets will be $20/person.\n
 &nbsp\;
END:VEVENT
BEGIN:VTIMEZONE
TZID:America/New_York
X-LIC-LOCATION:America/New_York
BEGIN:STANDARD
DTSTART:20261101T010000
TZOFFSETFROM:-0400
TZOFFSETTO:-0500
TZNAME:EST
END:STANDARD
END:VTIMEZONE
END:VCALENDAR