BEGIN:VCALENDAR
VERSION:2.0
PRODID:-//wp-events-plugin.com//7.2.3.1//EN
TZID:America/New_York
X-WR-TIMEZONE:America/New_York
BEGIN:VEVENT
UID:1878@kolhaverim.org
DTSTART;TZID=America/New_York:20260111T090000
DTEND;TZID=America/New_York:20260111T110000
DTSTAMP:20250625T190807Z
URL:https://www.kolhaverim.org/events/grades-4-5-family-ed/
SUMMARY:Grades K-2nd Family Ed
DESCRIPTION:Location: Robert Cohen Social Hall
CATEGORIES:Religious School
END:VEVENT
BEGIN:VTIMEZONE
TZID:America/New_York
X-LIC-LOCATION:America/New_York
BEGIN:STANDARD
DTSTART:20251102T010000
TZOFFSETFROM:-0400
TZOFFSETTO:-0500
TZNAME:EST
END:STANDARD
END:VTIMEZONE
END:VCALENDAR