BEGIN:VCALENDAR
VERSION:2.0
PRODID:-//wp-events-plugin.com//7.2.3.1//EN
TZID:America/New_York
X-WR-TIMEZONE:America/New_York
BEGIN:VEVENT
UID:1885@kolhaverim.org
DTSTART;TZID=America/New_York:20260412T090000
DTEND;TZID=America/New_York:20260412T110000
DTSTAMP:20250331T012538Z
URL:https://www.kolhaverim.org/events/grade-6-7-family-ed/
SUMMARY:Grade 6 & 7 Family Ed
DESCRIPTION:Location: Robert Cohen Social Hall
CATEGORIES:Religious School
END:VEVENT
BEGIN:VTIMEZONE
TZID:America/New_York
X-LIC-LOCATION:America/New_York
BEGIN:DAYLIGHT
DTSTART:20260308T030000
TZOFFSETFROM:-0500
TZOFFSETTO:-0400
TZNAME:EDT
END:DAYLIGHT
END:VTIMEZONE
END:VCALENDAR