BEGIN:VCALENDAR
VERSION:2.0
PRODID:-//wp-events-plugin.com//7.2.3.1//EN
TZID:America/New_York
X-WR-TIMEZONE:America/New_York
BEGIN:VEVENT
UID:1910@kolhaverim.org
DTSTART;TZID=America/New_York:20260515T173000
DTEND;TZID=America/New_York:20260515T190000
DTSTAMP:20260421T132149Z
URL:https://www.kolhaverim.org/events/family-friday-service-dinner-8/
SUMMARY:Early Shabbat Service with Dinner
DESCRIPTION:Service at 5:30 with dinner afterwards
CATEGORIES:Worship
END:VEVENT
BEGIN:VTIMEZONE
TZID:America/New_York
X-LIC-LOCATION:America/New_York
BEGIN:DAYLIGHT
DTSTART:20260308T030000
TZOFFSETFROM:-0500
TZOFFSETTO:-0400
TZNAME:EDT
END:DAYLIGHT
END:VTIMEZONE
END:VCALENDAR