BEGIN:VCALENDAR
VERSION:2.0
PRODID:-//wp-events-plugin.com//7.2.3.1//EN
TZID:America/New_York
X-WR-TIMEZONE:America/New_York
BEGIN:VEVENT
UID:1909@kolhaverim.org
DTSTART;TZID=America/New_York:20260410T173000
DTEND;TZID=America/New_York:20260410T190000
DTSTAMP:20260319T225543Z
URL:https://www.kolhaverim.org/events/family-friday-service-dinner-7/
SUMMARY:Early Shabbat Service with Dinner
DESCRIPTION:Family Shabbat Service and Dinner: Friday\, April 10th 5:30 PM.
   All members of the congregation are invited to attend the monthly Earl
 y Shabbat and Dinner.\n\nPlease use this link to sign up: https://kolhaver
 im.shulcloud.com/event/family-friday8.html
ATTACH;FMTTYPE=image/jpeg:https://www.kolhaverim.org/wp-content/uploads/20
 23/09/Family-Fridays-General.png
CATEGORIES:Featured
END:VEVENT
BEGIN:VTIMEZONE
TZID:America/New_York
X-LIC-LOCATION:America/New_York
BEGIN:DAYLIGHT
DTSTART:20260308T030000
TZOFFSETFROM:-0500
TZOFFSETTO:-0400
TZNAME:EDT
END:DAYLIGHT
END:VTIMEZONE
END:VCALENDAR