BEGIN:VCALENDAR
VERSION:2.0
PRODID:-//wp-events-plugin.com//7.2.3.1//EN
TZID:America/New_York
X-WR-TIMEZONE:America/New_York
BEGIN:VEVENT
UID:2263@kolhaverim.org
DTSTART;TZID=America/New_York:20260321T173000
DTEND;TZID=America/New_York:20260321T210000
DTSTAMP:20260302T135519Z
URL:https://www.kolhaverim.org/events/comedy-night-2/
SUMMARY:Trivia Night
DESCRIPTION:The Trivia Masters' Trophy is back up for grabs!  Saturday ni
 ght\, March 21\, 2026 from 6:30 - 9 PM.  No charge\, but donations are ac
 cepted.  Register HERE !!\n\nLocation: Robert Cohen Social Hall
ATTACH;FMTTYPE=image/jpeg:https://www.kolhaverim.org/wp-content/uploads/20
 23/08/Trivia-Night-Feature-2024.png
CATEGORIES:Featured
END:VEVENT
BEGIN:VTIMEZONE
TZID:America/New_York
X-LIC-LOCATION:America/New_York
BEGIN:DAYLIGHT
DTSTART:20260308T030000
TZOFFSETFROM:-0500
TZOFFSETTO:-0400
TZNAME:EDT
END:DAYLIGHT
END:VTIMEZONE
END:VCALENDAR