BEGIN:VCALENDAR
VERSION:2.0
PRODID:-//wp-events-plugin.com//7.2.3.1//EN
TZID:America/New_York
X-WR-TIMEZONE:America/New_York
BEGIN:VEVENT
UID:1761@kolhaverim.org
DTSTART;TZID=America/New_York;VALUE=DATE:20270220
DTEND;TZID=America/New_York;VALUE=DATE:20270221
DTSTAMP:20250214T172751Z
URL:https://www.kolhaverim.org/events/cobalt-levin/
SUMMARY:Cobalt Levin
DESCRIPTION:
CATEGORIES:B'rit Mitzvah
END:VEVENT
BEGIN:VTIMEZONE
TZID:America/New_York
X-LIC-LOCATION:America/New_York
BEGIN:STANDARD
DTSTART:20261101T010000
TZOFFSETFROM:-0400
TZOFFSETTO:-0500
TZNAME:EST
END:STANDARD
END:VTIMEZONE
END:VCALENDAR