BEGIN:VCALENDAR
VERSION:2.0
PRODID:-//wp-events-plugin.com//7.2.3.1//EN
TZID:America/New_York
X-WR-TIMEZONE:America/New_York
BEGIN:VEVENT
UID:2311@kolhaverim.org
DTSTART;TZID=America/New_York:20261107T190000
DTEND;TZID=America/New_York:20261107T220000
DTSTAMP:20260408T135203Z
URL:https://www.kolhaverim.org/events/ckh-event/
SUMMARY:'River of Dreams' Billy Joel Tribute Band
DESCRIPTION:Location: Sanctuary\n\nNovember 7th: 'River of Dreams' Billy Jo
 el Tribute Band\nDetails to Follow\n&nbsp\;
END:VEVENT
BEGIN:VTIMEZONE
TZID:America/New_York
X-LIC-LOCATION:America/New_York
BEGIN:STANDARD
DTSTART:20261101T010000
TZOFFSETFROM:-0400
TZOFFSETTO:-0500
TZNAME:EST
END:STANDARD
END:VTIMEZONE
END:VCALENDAR