BEGIN:VCALENDAR
VERSION:2.0
PRODID:-//wp-events-plugin.com//7.2.3.1//EN
TZID:America/New_York
X-WR-TIMEZONE:America/New_York
BEGIN:VEVENT
UID:2029@kolhaverim.org
DTSTART;TZID=America/New_York:20251216T134500
DTEND;TZID=America/New_York:20251216T184500
DTSTAMP:20250422T205742Z
URL:https://www.kolhaverim.org/events/blood-drive-27/
SUMMARY:Blood Drive
DESCRIPTION:Red Cross Blood Drive\n\nLocation: Robert Cohen Social Hall (se
 t up at 12:00 pm)\n\n&nbsp\;
CATEGORIES:Blood Drive
END:VEVENT
BEGIN:VTIMEZONE
TZID:America/New_York
X-LIC-LOCATION:America/New_York
BEGIN:STANDARD
DTSTART:20251102T010000
TZOFFSETFROM:-0400
TZOFFSETTO:-0500
TZNAME:EST
END:STANDARD
END:VTIMEZONE
END:VCALENDAR