BEGIN:VCALENDAR
VERSION:2.0
PRODID:-//wp-events-plugin.com//7.2.3.1//EN
TZID:America/New_York
X-WR-TIMEZONE:America/New_York
BEGIN:VEVENT
UID:2168@kolhaverim.org
DTSTART;TZID=America/New_York:20251022T183000
DTEND;TZID=America/New_York:20251022T213000
DTSTAMP:20251017T165143Z
URL:https://www.kolhaverim.org/events/bagels-rehearsal-7/
SUMMARY:Bagels Rehearsal
DESCRIPTION:Location: Sanctuary
END:VEVENT
BEGIN:VTIMEZONE
TZID:America/New_York
X-LIC-LOCATION:America/New_York
BEGIN:DAYLIGHT
DTSTART:20250309T030000
TZOFFSETFROM:-0500
TZOFFSETTO:-0400
TZNAME:EDT
END:DAYLIGHT
END:VTIMEZONE
END:VCALENDAR