BEGIN:VCALENDAR
VERSION:2.0
PRODID:-//wp-events-plugin.com//7.2.3.1//EN
TZID:America/New_York
X-WR-TIMEZONE:America/New_York
BEGIN:VEVENT
UID:2036@kolhaverim.org
DTSTART;TZID=America/New_York;VALUE=DATE:20260130
DTEND;TZID=America/New_York;VALUE=DATE:20260202
DTSTAMP:20250428T175544Z
URL:https://www.kolhaverim.org/events/artist-in-residence-weekend/
SUMMARY:"Artist in Residence" Weekend
DESCRIPTION:Acclaimed musician Joe Buchanan will visit CKH as an"Artist in 
 Residence\," January 30-February 1\, 2026\n\nFriday\, Janyary 30 - Shabbat
  Shirah Service @ 7:30 PM\n\nSaturday\, January 31 - Concert\n\n&nbsp\;\n\
 n&nbsp\;
END:VEVENT
BEGIN:VTIMEZONE
TZID:America/New_York
X-LIC-LOCATION:America/New_York
BEGIN:STANDARD
DTSTART:20251102T010000
TZOFFSETFROM:-0400
TZOFFSETTO:-0500
TZNAME:EST
END:STANDARD
END:VTIMEZONE
END:VCALENDAR