BEGIN:VCALENDAR
VERSION:2.0
PRODID:-//wp-events-plugin.com//7.2.3.1//EN
TZID:America/New_York
X-WR-TIMEZONE:America/New_York
BEGIN:VEVENT
UID:1981@kolhaverim.org
DTSTART;TZID=America/New_York:20260403T173000
DTEND;TZID=America/New_York:20260403T193000
DTSTAMP:20260319T225205Z
URL:https://www.kolhaverim.org/events/2nd-seder-4/
SUMMARY:Community Passover Seder
DESCRIPTION:Community Passover Seder: Friday\, April 3rd 5:30 PM.\nSeder w
 ill include dinner and brief Shabbat service\, including Yahrzeit commemor
 ation.  Dinner (chicken or vegetarian options) cost $36 for adults\, $15 
 for children (6-12).  Please register HERE by March 31st.
ATTACH;FMTTYPE=image/jpeg:https://www.kolhaverim.org/wp-content/uploads/20
 25/03/Community-Seder-2026.png
CATEGORIES:Featured
END:VEVENT
BEGIN:VTIMEZONE
TZID:America/New_York
X-LIC-LOCATION:America/New_York
BEGIN:DAYLIGHT
DTSTART:20260308T030000
TZOFFSETFROM:-0500
TZOFFSETTO:-0400
TZNAME:EDT
END:DAYLIGHT
END:VTIMEZONE
END:VCALENDAR